BEGIN:VCALENDAR
VERSION:2.0
PRODID:SchoolNow
CALSCALE:GREGORIAN
BEGIN:VEVENT
UID:c352dae0-502d-11f0-89c5-02943fc32455
DTSTAMP:20260424T035543Z
SUMMARY:PTA Meeting
URL;VALUE=URI:https://www.pleasval.org/schools/forest-grove/calendar/834350
 7/pta-meeting
DTSTART:20260121T000000Z
DTEND:20260121T010000Z
END:VEVENT
END:VCALENDAR
