BEGIN:VCALENDAR
VERSION:2.0
PRODID:SchoolNow
CALSCALE:GREGORIAN
BEGIN:VEVENT
UID:c352e2c4-502d-11f0-8066-02943fc32455
DTSTAMP:20260424T035543Z
SUMMARY:FAST Testing Window - Elementary
URL;VALUE=URI:https://www.pleasval.org/schools/forest-grove/calendar/834351
 6/fast-testing-window-elementary
DTSTART;VALUE=DATE:20260105
DTEND;VALUE=DATE:20260110
END:VEVENT
END:VCALENDAR
