BEGIN:VCALENDAR
VERSION:2.0
PRODID:SchoolNow
CALSCALE:GREGORIAN
BEGIN:VEVENT
UID:c352e558-502d-11f0-9167-02943fc32455
DTSTAMP:20260424T035543Z
SUMMARY:MAP Testing Window - Grades 3-6
URL;VALUE=URI:https://www.pleasval.org/schools/forest-grove/calendar/834351
 9/map-testing-window-grades-3-6
DTSTART;VALUE=DATE:20260105
DTEND;VALUE=DATE:20260110
END:VEVENT
END:VCALENDAR
