BEGIN:VCALENDAR
VERSION:2.0
PRODID:SchoolNow
CALSCALE:GREGORIAN
BEGIN:VEVENT
UID:c352e634-502d-11f0-a802-02943fc32455
DTSTAMP:20260424T035543Z
SUMMARY:MAP Testing Window - Grades 3-6
URL;VALUE=URI:https://www.pleasval.org/schools/forest-grove/calendar/834352
 0/map-testing-window-grades-3-6
DTSTART;VALUE=DATE:20260112
DTEND;VALUE=DATE:20260117
END:VEVENT
END:VCALENDAR
