BEGIN:VCALENDAR
VERSION:2.0
PRODID:SchoolNow
CALSCALE:GREGORIAN
BEGIN:VEVENT
UID:c352e7f6-502d-11f0-8ae6-02943fc32455
DTSTAMP:20260423T215052Z
SUMMARY:FAST Testing Window - Elementary
URL;VALUE=URI:https://www.pleasval.org/schools/forest-grove/calendar/834352
 2/fast-testing-window-elementary
DTSTART;VALUE=DATE:20260504
DTEND;VALUE=DATE:20260509
END:VEVENT
END:VCALENDAR
