BEGIN:VCALENDAR
VERSION:2.0
PRODID:SchoolNow
CALSCALE:GREGORIAN
BEGIN:VEVENT
UID:e04344bc-56ba-11f0-88e6-0a58a9feac02
DTSTAMP:20260424T035543Z
SUMMARY:No School - Martin Luther King Day
URL;VALUE=URI:https://www.pleasval.org/schools/forest-grove/calendar/837489
 7/no-school-martin-luther-king-day
DTSTART;VALUE=DATE:20260119
DTEND;VALUE=DATE:20260120
END:VEVENT
END:VCALENDAR
