BEGIN:VCALENDAR
VERSION:2.0
PRODID:SchoolNow
CALSCALE:GREGORIAN
BEGIN:VEVENT
UID:e043487c-56ba-11f0-a156-0a58a9feac02
DTSTAMP:20260423T215052Z
SUMMARY:No School
URL;VALUE=URI:https://www.pleasval.org/schools/forest-grove/calendar/837490
 1/no-school
DTSTART;VALUE=DATE:20260403
DTEND;VALUE=DATE:20260404
END:VEVENT
END:VCALENDAR
