BEGIN:VCALENDAR
VERSION:2.0
PRODID:SchoolNow
CALSCALE:GREGORIAN
BEGIN:VEVENT
UID:e0434962-56ba-11f0-9179-0a58a9feac02
DTSTAMP:20260424T035543Z
SUMMARY:No School - Memorial Day
URL;VALUE=URI:https://www.pleasval.org/schools/forest-grove/calendar/837490
 2/no-school-memorial-day
DTSTART;VALUE=DATE:20260525
DTEND;VALUE=DATE:20260526
END:VEVENT
END:VCALENDAR
