BEGIN:VCALENDAR
VERSION:2.0
PRODID:SchoolNow
CALSCALE:GREGORIAN
BEGIN:VEVENT
UID:3fef1d24-ed82-11f0-8d10-0a58a9feac02
DTSTAMP:20260423T215052Z
SUMMARY:ISASP Testing Window - Grades 3-6
URL;VALUE=URI:https://www.pleasval.org/schools/forest-grove/calendar/883337
 5/isasp-testing-window-grades-3-6
DTSTART;VALUE=DATE:20260413
DTEND;VALUE=DATE:20260506
END:VEVENT
END:VCALENDAR
