BEGIN:VCALENDAR
VERSION:2.0
PRODID:SchoolNow
CALSCALE:GREGORIAN
BEGIN:VEVENT
UID:0213e638-19ba-11f1-9b53-0affc5249459
DTSTAMP:20260424T035543Z
SUMMARY:Kindergarten Roundup
URL;VALUE=URI:https://www.pleasval.org/schools/forest-grove/calendar/889704
 0/kindergarten-roundup
DTSTART;VALUE=DATE:20260522
DTEND;VALUE=DATE:20260523
END:VEVENT
END:VCALENDAR
