BEGIN:VCALENDAR
VERSION:2.0
PRODID:SchoolNow
CALSCALE:GREGORIAN
BEGIN:VEVENT
UID:bb6e90dc-3a63-11f1-bef4-0e360ea6c8e7
DTSTAMP:20260424T100051Z
SUMMARY:Picture Day
URL;VALUE=URI:https://www.pleasval.org/schools/forest-grove/calendar/900046
 6/picture-day
DTSTART:20260908T133000Z
DTEND:20260908T170000Z
END:VEVENT
END:VCALENDAR
