BEGIN:VCALENDAR
VERSION:2.0
PRODID:SchoolNow
CALSCALE:GREGORIAN
BEGIN:VEVENT
UID:e0df17c0-3a85-11f1-b573-0e262f4e3fab
DTSTAMP:20260419T122508Z
SUMMARY:Robotics World Championships - Houston TX
URL;VALUE=URI:https://www.pleasval.org/schools/high-school/calendar/9000961
 /robotics-world-championships-houston-tx
DTSTART;VALUE=DATE:20260427
DTEND;VALUE=DATE:20260428
END:VEVENT
END:VCALENDAR
