BEGIN:VCALENDAR
VERSION:2.0
PRODID:SchoolNow
CALSCALE:GREGORIAN
BEGIN:VEVENT
UID:8c9540d8-3224-11ef-87bd-0a58a9feac02
DTSTAMP:20260424T204507Z
SUMMARY:Early Out
URL;VALUE=URI:https://www.pleasval.org/schools/pleasant-view/calendar/61612
 46/early-out
DTSTART;VALUE=DATE:20260121
DTEND;VALUE=DATE:20260122
END:VEVENT
END:VCALENDAR
