BEGIN:VCALENDAR
VERSION:2.0
PRODID:SchoolNow
CALSCALE:GREGORIAN
BEGIN:VEVENT
UID:81c082d4-6ebb-11ef-b3c8-0a58a9feac02
DTSTAMP:20260424T204507Z
SUMMARY:Early Dismissal
URL;VALUE=URI:https://www.pleasval.org/schools/pleasant-view/calendar/65601
 99/early-dismissal
DTSTART;VALUE=DATE:20260506
DTEND;VALUE=DATE:20260507
END:VEVENT
END:VCALENDAR
