BEGIN:VCALENDAR
VERSION:2.0
PRODID:SchoolNow
CALSCALE:GREGORIAN
BEGIN:VEVENT
UID:7d220e8a-76e7-11ef-ac17-0afff897c229
DTSTAMP:20260424T204507Z
SUMMARY:Early Out
URL;VALUE=URI:https://www.pleasval.org/schools/pleasant-view/calendar/66462
 30/early-out
DTSTART;VALUE=DATE:20260520
DTEND;VALUE=DATE:20260521
END:VEVENT
END:VCALENDAR
