BEGIN:VCALENDAR
VERSION:2.0
PRODID:SchoolNow
CALSCALE:GREGORIAN
BEGIN:VEVENT
UID:f2428210-502d-11f0-a02d-0a58a9feac02
DTSTAMP:20260424T204507Z
SUMMARY:MAP Testing Window - Grades 3-6
URL;VALUE=URI:https://www.pleasval.org/schools/pleasant-view/calendar/83437
 08/map-testing-window-grades-3-6
DTSTART;VALUE=DATE:20260518
DTEND;VALUE=DATE:20260523
END:VEVENT
END:VCALENDAR
