BEGIN:VCALENDAR
VERSION:2.0
PRODID:SchoolNow
CALSCALE:GREGORIAN
BEGIN:VEVENT
UID:4f641a60-51f7-11f0-9174-0a58a9feac02
DTSTAMP:20260424T204507Z
SUMMARY:PLV PTA Glow Party
LOCATION:Pleasant View Elementary School\, 6333 Crow Creek Rd\, Bettendorf\
 , IA 52722\, USA
URL;VALUE=URI:https://www.pleasval.org/schools/pleasant-view/calendar/83533
 41/plv-pta-glow-party
DTSTART:20260110T000000Z
DTEND:20260110T020000Z
END:VEVENT
END:VCALENDAR
