BEGIN:VCALENDAR
VERSION:2.0
PRODID:SchoolNow
CALSCALE:GREGORIAN
BEGIN:VEVENT
UID:4f641b3c-51f7-11f0-8735-0a58a9feac02
DTSTAMP:20260424T204507Z
SUMMARY:PLV K-6th Jump Rope for Heart
URL;VALUE=URI:https://www.pleasval.org/schools/pleasant-view/calendar/83533
 42/plv-k-6th-jump-rope-for-heart
DTSTART:20260130T210000Z
DTEND:20260130T230000Z
END:VEVENT
END:VCALENDAR
