BEGIN:VCALENDAR
VERSION:2.0
PRODID:SchoolNow
CALSCALE:GREGORIAN
BEGIN:VEVENT
UID:4f64288e-51f7-11f0-98ca-0a58a9feac02
DTSTAMP:20260424T204507Z
SUMMARY:PLV PTA Meeting
URL;VALUE=URI:https://www.pleasval.org/schools/pleasant-view/calendar/83533
 44/plv-pta-meeting
DTSTART:20260203T003000Z
DTEND:20260203T013000Z
END:VEVENT
END:VCALENDAR
