BEGIN:VCALENDAR
VERSION:2.0
PRODID:SchoolNow
CALSCALE:GREGORIAN
BEGIN:VEVENT
UID:4f6429ec-51f7-11f0-8641-0a58a9feac02
DTSTAMP:20260424T204507Z
SUMMARY:PLV Scholastic Book Fair
LOCATION:Pleasant View Elementary School\, 6333 Crow Creek Rd\, Bettendorf\
 , IA 52722\, USA
URL;VALUE=URI:https://www.pleasval.org/schools/pleasant-view/calendar/83533
 45/plv-scholastic-book-fair
DTSTART:20260226T210000Z
DTEND:20260227T020000Z
END:VEVENT
END:VCALENDAR
