BEGIN:VCALENDAR
VERSION:2.0
PRODID:SchoolNow
CALSCALE:GREGORIAN
BEGIN:VEVENT
UID:4f642c6c-51f7-11f0-97d9-0a58a9feac02
DTSTAMP:20260424T204507Z
SUMMARY:PLV Spring Program
URL;VALUE=URI:https://www.pleasval.org/schools/pleasant-view/calendar/83533
 47/plv-spring-program
DTSTART:20260331T140000Z
DTEND:20260331T153000Z
END:VEVENT
END:VCALENDAR
