BEGIN:VCALENDAR
VERSION:2.0
PRODID:SchoolNow
CALSCALE:GREGORIAN
BEGIN:VEVENT
UID:4f642dd4-51f7-11f0-9a25-0a58a9feac02
DTSTAMP:20260424T204507Z
SUMMARY:PLV Spring Program
URL;VALUE=URI:https://www.pleasval.org/schools/pleasant-view/calendar/83533
 48/plv-spring-program
DTSTART:20260331T180000Z
DTEND:20260331T193000Z
END:VEVENT
END:VCALENDAR
