BEGIN:VCALENDAR
VERSION:2.0
PRODID:SchoolNow
CALSCALE:GREGORIAN
BEGIN:VEVENT
UID:4f642ec4-51f7-11f0-af30-0a58a9feac02
DTSTAMP:20260424T144007Z
SUMMARY:PLV Donuts with GrownUps
URL;VALUE=URI:https://www.pleasval.org/schools/pleasant-view/calendar/83533
 49/plv-donuts-with-grownups
DTSTART:20260410T123000Z
DTEND:20260410T132000Z
END:VEVENT
END:VCALENDAR
