BEGIN:VCALENDAR
VERSION:2.0
PRODID:SchoolNow
CALSCALE:GREGORIAN
BEGIN:VEVENT
UID:4f642fbe-51f7-11f0-865a-0a58a9feac02
DTSTAMP:20260424T204507Z
SUMMARY:PLV PTA Meeting
URL;VALUE=URI:https://www.pleasval.org/schools/pleasant-view/calendar/83533
 50/plv-pta-meeting
DTSTART:20260413T233000Z
DTEND:20260414T003000Z
END:VEVENT
END:VCALENDAR
