BEGIN:VCALENDAR
VERSION:2.0
PRODID:SchoolNow
CALSCALE:GREGORIAN
BEGIN:VEVENT
UID:4f6430ae-51f7-11f0-8147-0a58a9feac02
DTSTAMP:20260424T204507Z
SUMMARY:Teacher Appreciation Week
URL;VALUE=URI:https://www.pleasval.org/schools/pleasant-view/calendar/83533
 51/teacher-appreciation-week
DTSTART;VALUE=DATE:20260504
DTEND;VALUE=DATE:20260509
END:VEVENT
END:VCALENDAR
