BEGIN:VCALENDAR
VERSION:2.0
PRODID:SchoolNow
CALSCALE:GREGORIAN
BEGIN:VEVENT
UID:4f643194-51f7-11f0-b517-0a58a9feac02
DTSTAMP:20260424T204507Z
SUMMARY:PLV PTA Meeting
URL;VALUE=URI:https://www.pleasval.org/schools/pleasant-view/calendar/83533
 52/plv-pta-meeting
DTSTART:20260511T233000Z
DTEND:20260512T003000Z
END:VEVENT
END:VCALENDAR
