BEGIN:VCALENDAR
VERSION:2.0
PRODID:SchoolNow
CALSCALE:GREGORIAN
BEGIN:VEVENT
UID:4f64327a-51f7-11f0-98f8-0a58a9feac02
DTSTAMP:20260424T204507Z
SUMMARY:PLV Senior Send Off
URL;VALUE=URI:https://www.pleasval.org/schools/pleasant-view/calendar/83533
 53/plv-senior-send-off
DTSTART:20260521T124500Z
DTEND:20260521T143000Z
END:VEVENT
END:VCALENDAR
