BEGIN:VCALENDAR
VERSION:2.0
PRODID:SchoolNow
CALSCALE:GREGORIAN
BEGIN:VEVENT
UID:4f643446-51f7-11f0-8e20-0a58a9feac02
DTSTAMP:20260424T204507Z
SUMMARY:PLV Walk-A-Thon
URL;VALUE=URI:https://www.pleasval.org/schools/pleasant-view/calendar/83533
 55/plv-walk-a-thon
DTSTART;VALUE=DATE:20260508
DTEND;VALUE=DATE:20260509
END:VEVENT
END:VCALENDAR
