BEGIN:VCALENDAR
VERSION:2.0
PRODID:SchoolNow
CALSCALE:GREGORIAN
BEGIN:VEVENT
UID:96dfd150-5688-11f0-80a2-02f734c78229
DTSTAMP:20260424T204507Z
SUMMARY:PLV PTA Executive Meeting
URL;VALUE=URI:https://www.pleasval.org/schools/pleasant-view/calendar/83736
 27/plv-pta-executive-meeting
DTSTART:20260227T200000Z
DTEND:20260227T210000Z
END:VEVENT
END:VCALENDAR
