BEGIN:VCALENDAR
VERSION:2.0
PRODID:SchoolNow
CALSCALE:GREGORIAN
BEGIN:VEVENT
UID:933822d6-56bb-11f0-986b-0affc2240999
DTSTAMP:20260424T204507Z
SUMMARY:No School - Winter Break
URL;VALUE=URI:https://www.pleasval.org/schools/pleasant-view/calendar/83749
 23/no-school-winter-break
DTSTART;VALUE=DATE:20251222
DTEND;VALUE=DATE:20260103
END:VEVENT
END:VCALENDAR
