BEGIN:VCALENDAR
VERSION:2.0
PRODID:SchoolNow
CALSCALE:GREGORIAN
BEGIN:VEVENT
UID:93382678-56bb-11f0-a154-0affc2240999
DTSTAMP:20260424T204507Z
SUMMARY:Spring Break
URL;VALUE=URI:https://www.pleasval.org/schools/pleasant-view/calendar/83749
 27/spring-break
DTSTART;VALUE=DATE:20260316
DTEND;VALUE=DATE:20260321
END:VEVENT
END:VCALENDAR
