BEGIN:VCALENDAR
VERSION:2.0
PRODID:SchoolNow
CALSCALE:GREGORIAN
BEGIN:VEVENT
UID:935cb95c-56bb-11f0-ba61-0affc2240999
DTSTAMP:20260424T204507Z
SUMMARY:Elementary Conferences
URL;VALUE=URI:https://www.pleasval.org/schools/pleasant-view/calendar/83749
 43/elementary-conferences
DTSTART:20260226T220000Z
DTEND:20260227T020000Z
END:VEVENT
END:VCALENDAR
