BEGIN:VCALENDAR
VERSION:2.0
PRODID:SchoolNow
CALSCALE:GREGORIAN
BEGIN:VEVENT
UID:d988a67e-7d22-11f0-9a1e-0affc6540b5f
DTSTAMP:20260424T204507Z
SUMMARY:PLV 4th Grade BizTown
URL;VALUE=URI:https://www.pleasval.org/schools/pleasant-view/calendar/85223
 09/plv-4th-grade-biztown
DTSTART;VALUE=DATE:20260601
DTEND;VALUE=DATE:20260602
END:VEVENT
END:VCALENDAR
