BEGIN:VCALENDAR
VERSION:2.0
PRODID:SchoolNow
CALSCALE:GREGORIAN
BEGIN:VEVENT
UID:b73a1214-a3bb-11f0-8920-0a58a9feac02
DTSTAMP:20260424T204507Z
SUMMARY:5th Flag Essay Ceremony
URL;VALUE=URI:https://www.pleasval.org/schools/pleasant-view/calendar/87038
 47/5th-flag-essay-ceremony
DTSTART:20260515T135000Z
DTEND:20260515T142000Z
END:VEVENT
END:VCALENDAR
