BEGIN:VCALENDAR
VERSION:2.0
PRODID:SchoolNow
CALSCALE:GREGORIAN
BEGIN:VEVENT
UID:25d52002-bfe5-11f0-8fec-0a58a9feac02
DTSTAMP:20260424T204507Z
SUMMARY:PLV Scholastic Book Fair
URL;VALUE=URI:https://www.pleasval.org/schools/pleasant-view/calendar/87911
 59/plv-scholastic-book-fair
DTSTART:20260224T210000Z
DTEND:20260225T000000Z
END:VEVENT
END:VCALENDAR
