BEGIN:VCALENDAR
VERSION:2.0
PRODID:SchoolNow
CALSCALE:GREGORIAN
BEGIN:VEVENT
UID:b7507de0-f043-11f0-a5d8-0a58a9feac02
DTSTAMP:20260424T204507Z
SUMMARY:PTA World Culture Night
URL;VALUE=URI:https://www.pleasval.org/schools/pleasant-view/calendar/88353
 28/pta-world-culture-night
DTSTART:20260306T003000Z
DTEND:20260306T013000Z
END:VEVENT
END:VCALENDAR
