BEGIN:VCALENDAR
VERSION:2.0
PRODID:SchoolNow
CALSCALE:GREGORIAN
BEGIN:VEVENT
UID:9d923c9a-f241-11f0-bfcc-0afff37df5c7
DTSTAMP:20260424T204507Z
SUMMARY:MAP Testing Window - Grades 3-6
URL;VALUE=URI:https://www.pleasval.org/schools/pleasant-view/calendar/88367
 19/map-testing-window-grades-3-6
DTSTART;VALUE=DATE:20260526
DTEND;VALUE=DATE:20260528
END:VEVENT
END:VCALENDAR
