BEGIN:VCALENDAR
VERSION:2.0
PRODID:SchoolNow
CALSCALE:GREGORIAN
BEGIN:VEVENT
UID:9ad167f0-f274-11f0-86b4-0affd805b213
DTSTAMP:20260424T204507Z
SUMMARY:Cafeteria - PTA Spring Book Fair
URL;VALUE=URI:https://www.pleasval.org/schools/pleasant-view/calendar/88368
 36/cafeteria-pta-spring-book-fair
DTSTART:20260224T210000Z
DTEND:20260225T000000Z
END:VEVENT
END:VCALENDAR
