BEGIN:VCALENDAR
VERSION:2.0
PRODID:SchoolNow
CALSCALE:GREGORIAN
BEGIN:VEVENT
UID:18a32946-2dff-11f1-8424-0a58a9feac02
DTSTAMP:20260424T144007Z
SUMMARY:Last Day to Order Yearbooks!
URL;VALUE=URI:https://www.pleasval.org/schools/pleasant-view/calendar/89634
 44/last-day-to-order-yearbooks
DTSTART;VALUE=DATE:20260420
DTEND;VALUE=DATE:20260421
END:VEVENT
END:VCALENDAR
